BEGIN:VCALENDAR
VERSION:2.0
PRODID:-//Həlimə Qəmərlinskaya - ECPv4.9.4//NONSGML v1.0//EN
CALSCALE:GREGORIAN
METHOD:PUBLISH
X-WR-CALNAME:Həlimə Qəmərlinskaya
X-ORIGINAL-URL:https://az.hgacademy.online
X-WR-CALDESC:Üçün tədbirlər Həlimə Qəmərlinskaya
BEGIN:VTIMEZONE
TZID:"Europe/Moscow"
BEGIN:STANDARD
TZOFFSETFROM:+0300
TZOFFSETTO:+0300
TZNAME:MSK
DTSTART:20220101T000000
END:STANDARD
END:VTIMEZONE
BEGIN:VEVENT
DTSTART;VALUE=DATE:20220401
DTEND;VALUE=DATE:20220402
DTSTAMP:20260422T145343
CREATED:20220325T040830Z
LAST-MODIFIED:20220325T040830Z
UID:5685-1648771200-1648857599@az.hgacademy.online
SUMMARY:Aprelin 1-də Lydia Şestak əliyevin təşkilatçılığı ilə Egis Azerbaijan şirkəti ilə birlikdə ukraynadan olan qaçqınlarla"travmatik pozğunluq "mövzusunda görüş keçirəcəyəm.
DESCRIPTION:Aprelin 1-də Lydia Şestak əliyevin təşkilatçılığı ilə Egis Azerbaijan şirkəti ilə birlikdə ukraynadan olan qaçqınlarla”travmatik pozğunluq “mövzusunda görüş keçirəcəyəm. \n
URL:https://az.hgacademy.online/event/aprelin-1-d-lydia-sestak-liyevin-t-skilatciligi-il-egis-azerbaijan-sirk-ti-il-birlikd-ukraynadan-olan-qacqinlarla-travmatik-pozgunluq-movzusunda-gorus-kecir-c-y-m/
END:VEVENT
END:VCALENDAR