BEGIN:VCALENDAR
VERSION:2.0
PRODID:-//Həlimə Qəmərlinskaya - ECPv4.9.4//NONSGML v1.0//EN
CALSCALE:GREGORIAN
METHOD:PUBLISH
X-WR-CALNAME:Həlimə Qəmərlinskaya
X-ORIGINAL-URL:https://az.hgacademy.online
X-WR-CALDESC:Üçün tədbirlər Həlimə Qəmərlinskaya
BEGIN:VTIMEZONE
TZID:"Europe/Moscow"
BEGIN:STANDARD
TZOFFSETFROM:+0300
TZOFFSETTO:+0300
TZNAME:MSK
DTSTART:20190101T000000
END:STANDARD
END:VTIMEZONE
BEGIN:VEVENT
DTSTART;VALUE=DATE:20191001
DTEND;VALUE=DATE:20191002
DTSTAMP:20260422T224556
CREATED:20190929T111722Z
LAST-MODIFIED:20191005T133048Z
UID:3742-1569888000-1569974399@az.hgacademy.online
SUMMARY:APA TV-də "Birdən milyona" verilişində\, "Motivasiya" mövzusunda çıxışım
DESCRIPTION:\n					\n						.fusion-gallery-1 .fusion-gallery-image {border:0px solid #f6f6f6;}\n\n					\n				\n
URL:https://az.hgacademy.online/event/apa-tv-d-bird-n-milyona-verilisind-motivasiya-movzusunda-cixisim/
ATTACH;FMTTYPE=image/jpeg:https://az.hgacademy.online/wp-content/uploads/2019/10/2019_10_01_apa_tv_003_900_500.jpg
END:VEVENT
END:VCALENDAR