BEGIN:VCALENDAR
VERSION:2.0
PRODID:-//Həlimə Qəmərlinskaya - ECPv4.9.4//NONSGML v1.0//EN
CALSCALE:GREGORIAN
METHOD:PUBLISH
X-WR-CALNAME:Həlimə Qəmərlinskaya
X-ORIGINAL-URL:https://az.hgacademy.online
X-WR-CALDESC:Üçün tədbirlər Həlimə Qəmərlinskaya
BEGIN:VTIMEZONE
TZID:"Europe/Moscow"
BEGIN:STANDARD
TZOFFSETFROM:+0300
TZOFFSETTO:+0300
TZNAME:MSK
DTSTART:20210101T000000
END:STANDARD
END:VTIMEZONE
BEGIN:VEVENT
DTSTART;TZID="Europe/Moscow":20211125T120000
DTEND;TZID="Europe/Moscow":20211125T130000
DTSTAMP:20260422T160135
CREATED:20211123T224508Z
LAST-MODIFIED:20211123T224625Z
UID:5542-1637841600-1637845200@az.hgacademy.online
SUMMARY:"Ailədaxili şiddətin psixoloji təzahürləri"
DESCRIPTION:Dəyərli dostlar\,\nİNJURİA hüquq jurnalının təşkilatçılığı ilə keçirilən “Ailədaxili şiddət və onun fəsadları” mövzusunda baş tutacaq konfransda iştirak edəcək spikerləri sizlərə təqdim edirik.\nKonfransda Həkim-Psixiatr Həlimə Qəmərlinskaya “Ailədaxili şiddətin psixoloji təzahürləri” mövzusunda çıxış edəcək.\nQeydiyyatdan keçmək üçün tələsin!\nQeydiyyat üçün son tarix: 24.11.2021; 23:59 \nhttps://docs.google.com/…/1fw1w…/edit \n\n
URL:https://az.hgacademy.online/event/ail-daxili-sidd-tin-psixoloji-t-zahurl-ri/
ATTACH;FMTTYPE=image/jpeg:https://az.hgacademy.online/wp-content/uploads/2021/11/2021_11_25_forum_900_500.jpg
END:VEVENT
END:VCALENDAR