BEGIN:VCALENDAR
VERSION:2.0
PRODID:-//Həlimə Qəmərlinskaya - ECPv4.9.4//NONSGML v1.0//EN
CALSCALE:GREGORIAN
METHOD:PUBLISH
X-WR-CALNAME:Həlimə Qəmərlinskaya
X-ORIGINAL-URL:https://az.hgacademy.online
X-WR-CALDESC:Üçün tədbirlər Həlimə Qəmərlinskaya
BEGIN:VTIMEZONE
TZID:"Europe/Moscow"
BEGIN:STANDARD
TZOFFSETFROM:+0300
TZOFFSETTO:+0300
TZNAME:MSK
DTSTART:20220101T000000
END:STANDARD
END:VTIMEZONE
BEGIN:VEVENT
DTSTART;TZID="Europe/Moscow":20220326T120000
DTEND;TZID="Europe/Moscow":20220326T140000
DTSTAMP:20260422T143714
CREATED:20220325T040134Z
LAST-MODIFIED:20220325T040134Z
UID:5678-1648296000-1648303200@az.hgacademy.online
SUMMARY:AIESEC in Azerbaijan
DESCRIPTION:26 Mart\, 12: 00 AIESEC in Azerbaijan tədbirində”eyniləşdirmə” mövzusunda çıxış \n.fusion-gallery-1 .fusion-gallery-image {border:0px solid #f6f6f6;}\n
URL:https://az.hgacademy.online/event/aiesec-in-azerbaijan/
ATTACH;FMTTYPE=image/jpeg:https://az.hgacademy.online/wp-content/uploads/2022/03/2022_03_26_aiesec_900_500.jpg
END:VEVENT
END:VCALENDAR