BEGIN:VCALENDAR
VERSION:2.0
PRODID:-//Həlimə Qəmərlinskaya - ECPv4.9.4//NONSGML v1.0//EN
CALSCALE:GREGORIAN
METHOD:PUBLISH
X-WR-CALNAME:Həlimə Qəmərlinskaya
X-ORIGINAL-URL:https://az.hgacademy.online
X-WR-CALDESC:Üçün tədbirlər Həlimə Qəmərlinskaya
BEGIN:VTIMEZONE
TZID:"Europe/Moscow"
BEGIN:STANDARD
TZOFFSETFROM:+0300
TZOFFSETTO:+0300
TZNAME:MSK
DTSTART:20220101T000000
END:STANDARD
END:VTIMEZONE
BEGIN:VEVENT
DTSTART;VALUE=DATE:20221106
DTEND;VALUE=DATE:20221107
DTSTAMP:20260422T113743
CREATED:20221019T175915Z
LAST-MODIFIED:20221019T175915Z
UID:5850-1667692800-1667779199@az.hgacademy.online
SUMMARY:6 noyabr açıq təlim və ustad dərsləri!
DESCRIPTION:Çoxsaylı müraciətləri nəzərə alaraq\, 6 noyabr tarixində açıq təlim təşkil edirik.\nTədbirdə “Zehni potensialımızın artırılması”\, “Psixi tükənmə”\, “Emotional burnout ” və onun fəsadları”\, “Beyin fəaliyyətinin səmərəliliyinin artırılması”\, “Yaddaş və kreativ düşüncənin inkişafı” mövzularında master-klasslar keçiriləcəkdir. \nBunlar hamısı professional stresslər təsirin nəticəsində psixi enerjinin tükənməsidir. Hələ digər fəsadlarda rast gəlir.\nİşdən asantlıqla ayrılmaq hərkəsdə alınmır.\nNeyniyək\, zehni potensialı azalmasın\, stresə müqavimət artsın\, beynin produktivliyi saxlanılsın? \nBu və digər suallara mən öz açıq master klassımda cavab verəcəm.\nBuyurun\, qoşulun. Qeydiyyatdan oktyabrın 25-dək keçib ödəniş etmək lazımdır. \nMəqsədlərimizə nail olmaq üçun testlərdən\, qrup şəklində tapşırıqlar\, zehni inkişafı artıran oyunlardan istifadə olunacaqdır. \n8 saatlıq təlim\, 2 çay fasiləsi\, 1 saat nahar qiymətə daxil olacaq.\nTəlimin maraqlı\, pozitiv və faydalı olduğuna əminəm. \nİştirak etmək niyyətinizi “+” işarəsilə qeyd etməyiniz xahiş olunur.\nPsixi sağlamlığımız uğurumuzun əsasıdır! \n
URL:https://az.hgacademy.online/event/6-noyabr-aciq-t-lim-v-ustad-d-rsl-ri/
ATTACH;FMTTYPE=image/jpeg:https://az.hgacademy.online/wp-content/uploads/2022/10/open-trening-6-nov-00.jpg
END:VEVENT
END:VCALENDAR