BEGIN:VCALENDAR
VERSION:2.0
PRODID:-//Həlimə Qəmərlinskaya - ECPv4.9.4//NONSGML v1.0//EN
CALSCALE:GREGORIAN
METHOD:PUBLISH
X-WR-CALNAME:Həlimə Qəmərlinskaya
X-ORIGINAL-URL:https://az.hgacademy.online
X-WR-CALDESC:Üçün tədbirlər Həlimə Qəmərlinskaya
BEGIN:VTIMEZONE
TZID:"Europe/Moscow"
BEGIN:STANDARD
TZOFFSETFROM:+0300
TZOFFSETTO:+0300
TZNAME:MSK
DTSTART:20210101T000000
END:STANDARD
END:VTIMEZONE
BEGIN:VEVENT
DTSTART;TZID="Europe/Moscow":20210201T080000
DTEND;TZID="Europe/Moscow":20210202T170000
DTSTAMP:20260422T175102
CREATED:20210117T202117Z
LAST-MODIFIED:20210117T202117Z
UID:5065-1612166400-1612285200@az.hgacademy.online
SUMMARY:36.6 Med  referansda
DESCRIPTION:\n
URL:https://az.hgacademy.online/event/36-6-med-referansda/
ATTACH;FMTTYPE=image/jpeg:https://az.hgacademy.online/wp-content/uploads/2021/01/2021_01_17_36_6med_1-2_fevral.jpg
END:VEVENT
END:VCALENDAR